BEGIN:VCALENDAR
VERSION:2.0
PRODID:-//Oheb Shalom Congregation - ECPv6.15.18//NONSGML v1.0//EN
CALSCALE:GREGORIAN
METHOD:PUBLISH
X-WR-CALNAME:Oheb Shalom Congregation
X-ORIGINAL-URL:https://ohebshalom.org
X-WR-CALDESC:Events for Oheb Shalom Congregation
REFRESH-INTERVAL;VALUE=DURATION:PT1H
X-Robots-Tag:noindex
X-PUBLISHED-TTL:PT1H
BEGIN:VTIMEZONE
TZID:America/New_York
BEGIN:DAYLIGHT
TZOFFSETFROM:-0500
TZOFFSETTO:-0400
TZNAME:EDT
DTSTART:20230312T070000
END:DAYLIGHT
BEGIN:STANDARD
TZOFFSETFROM:-0400
TZOFFSETTO:-0500
TZNAME:EST
DTSTART:20231105T060000
END:STANDARD
BEGIN:DAYLIGHT
TZOFFSETFROM:-0500
TZOFFSETTO:-0400
TZNAME:EDT
DTSTART:20240310T070000
END:DAYLIGHT
BEGIN:STANDARD
TZOFFSETFROM:-0400
TZOFFSETTO:-0500
TZNAME:EST
DTSTART:20241103T060000
END:STANDARD
BEGIN:DAYLIGHT
TZOFFSETFROM:-0500
TZOFFSETTO:-0400
TZNAME:EDT
DTSTART:20250309T070000
END:DAYLIGHT
BEGIN:STANDARD
TZOFFSETFROM:-0400
TZOFFSETTO:-0500
TZNAME:EST
DTSTART:20251102T060000
END:STANDARD
END:VTIMEZONE
BEGIN:VEVENT
DTSTART;TZID=America/New_York:20240525T000000
DTEND;TZID=America/New_York:20240525T000000
DTSTAMP:20260419T104950
CREATED:20240514T204644Z
LAST-MODIFIED:20240514T204644Z
UID:2228-1716595200-1716595200@ohebshalom.org
SUMMARY:Holding for Auf ruf - Lisa Paley's son and fiance
DESCRIPTION:(973) 641-0807 / llpdo@aol.com
URL:https://ohebshalom.org/oheb-calendar/holding-for-auf-ruf-lisa-paleys-son-and-fiance/
CATEGORIES:Internal
END:VEVENT
BEGIN:VEVENT
DTSTART;TZID=America/New_York:20240518T190000
DTEND;TZID=America/New_York:20240518T230000
DTSTAMP:20260419T104950
CREATED:20240514T204410Z
LAST-MODIFIED:20240514T204410Z
UID:2209-1716058800-1716073200@ohebshalom.org
SUMMARY:Family celebration Blint-Midrony family
DESCRIPTION:
URL:https://ohebshalom.org/oheb-calendar/family-celebration-blint-midrony-family/
CATEGORIES:Internal
END:VEVENT
END:VCALENDAR